BEGIN:VCALENDAR
VERSION:2.0
PRODID:-//Tukios.com/
BEGIN:VEVENT
UID:24251ee7-9fab-471b-bee5-13f6bf5080af@www.gormanscharpf.com
DTSTAMP:20260426T034746Z
DTSTART:20260530T150000Z
DTEND:20260530T160000Z
SUMMARY:Memorial Service
DESCRIPTION:
URL:https://www.gormanscharpf.com/obituaries/woody-cockrill
LOCATION:Christ Episcopal Church 601 East Walnut Street  Springfield MO 
	65806
GEO:37.207055;-93.2863197
END:VEVENT
END:VCALENDAR