BEGIN:VCALENDAR
VERSION:2.0
PRODID:-//Tukios.com/
BEGIN:VEVENT
UID:626ae3a8-b18f-4c4f-bef0-4ba3a8220bf3@www.gormanscharpf.com
DTSTAMP:20260422T000024Z
DTSTART:20260425T223000Z
DTEND:20260425T230000Z
SUMMARY:Remembrances
DESCRIPTION:
URL:https://www.gormanscharpf.com/obituaries/mui-chong-tran-ly
LOCATION: 1947 East Seminole Street  Springfield MO 65804
GEO:37.1746524;-93.2593542
END:VEVENT
END:VCALENDAR