BEGIN:VCALENDAR
VERSION:2.0
PRODID:-//Tukios.com/
BEGIN:VEVENT
UID:2b25b394-500a-422a-bc0f-4c022538a8c8@www.gormanscharpf.com
DTSTAMP:20260421T235733Z
DTSTART:20260425T210000Z
DTEND:20260425T223000Z
SUMMARY:Visitation
DESCRIPTION:
URL:https://www.gormanscharpf.com/obituaries/mui-chong-tran-ly
LOCATION: 1947 East Seminole Street  Springfield MO 65804
GEO:37.1746524;-93.2593542
END:VEVENT
END:VCALENDAR