BEGIN:VCALENDAR
VERSION:2.0
PRODID:-//Tukios.com/
BEGIN:VEVENT
UID:4a22f0df-b3c3-4279-82a5-bb14ee536128@www.gormanscharpf.com
DTSTAMP:20260421T004039Z
DTSTART:20260424T180000Z
DTEND:20260424T190000Z
SUMMARY:Funeral Service
DESCRIPTION:
URL:https://www.gormanscharpf.com/obituaries/john-purtell
LOCATION: 2747 E Sunshine St  Springfield MO 65804
GEO:37.181404;-93.2402121
END:VEVENT
END:VCALENDAR