BEGIN:VCALENDAR
VERSION:2.0
PRODID:-//Tukios.com/
BEGIN:VEVENT
UID:acf9b727-bfb9-4e83-8b99-f63807df8ff2@www.gormanscharpf.com
DTSTAMP:20260420T205203Z
DTSTART:20260423T160000Z
DTEND:20260423T170000Z
SUMMARY:Graveside Service
DESCRIPTION:
URL:https://www.gormanscharpf.com/obituaries/joe-coble
LOCATION:Rose Hill West Cemetery 1573 State Hwy MM  Billings MO 65610
GEO:37.0828687;-93.5823176
END:VEVENT
END:VCALENDAR